BEGIN:VCALENDAR
VERSION:2.0
PRODID:-//hacksw/handcal//NONSGML v1.0//EN
CALSCALE:GREGORIAN
BEGIN:VEVENT
UID:69e937cad275b
DTSTART:20260521T083000
DTEND:20260521T093000
DTSTAMP:20260422T210410Z
LOCATION:Familienzentrum Innsbruck
DESCRIPTION:Danke für deine Kursbuchung von dem Kurs Ganzkörpertraining für Mamas (mit Kind\, ab 1 Jahr) im Familienzentrum.\n\nUnter folgendem Link findest du alle Infos zu deiner Kursbuchung:\n\n\nBei Fragen zum Kurs\, wende dich bitte direkt an die Kursleitung.\n\nWir freuen uns auf den Kurs mit dir. :-)
SUMMARY:Ganzkörpertraining für Mamas (mit Kind\, ab 1 Jahr)
URL;VALUE=URI:
END:VEVENT
BEGIN:VEVENT
UID:69e937cad275f
DTSTART:20260528T083000
DTEND:20260528T093000
DTSTAMP:20260422T210410Z
LOCATION:Familienzentrum Innsbruck
DESCRIPTION:Danke für deine Kursbuchung von dem Kurs Ganzkörpertraining für Mamas (mit Kind\, ab 1 Jahr) im Familienzentrum.\n\nUnter folgendem Link findest du alle Infos zu deiner Kursbuchung:\n\n\nBei Fragen zum Kurs\, wende dich bitte direkt an die Kursleitung.\n\nWir freuen uns auf den Kurs mit dir. :-)
SUMMARY:Ganzkörpertraining für Mamas (mit Kind\, ab 1 Jahr)
URL;VALUE=URI:
END:VEVENT
BEGIN:VEVENT
UID:69e937cad2760
DTSTART:20260611T083000
DTEND:20260611T093000
DTSTAMP:20260422T210410Z
LOCATION:Familienzentrum Innsbruck
DESCRIPTION:Danke für deine Kursbuchung von dem Kurs Ganzkörpertraining für Mamas (mit Kind\, ab 1 Jahr) im Familienzentrum.\n\nUnter folgendem Link findest du alle Infos zu deiner Kursbuchung:\n\n\nBei Fragen zum Kurs\, wende dich bitte direkt an die Kursleitung.\n\nWir freuen uns auf den Kurs mit dir. :-)
SUMMARY:Ganzkörpertraining für Mamas (mit Kind\, ab 1 Jahr)
URL;VALUE=URI:
END:VEVENT
BEGIN:VEVENT
UID:69e937cad2761
DTSTART:20260618T083000
DTEND:20260618T093000
DTSTAMP:20260422T210410Z
LOCATION:Familienzentrum Innsbruck
DESCRIPTION:Danke für deine Kursbuchung von dem Kurs Ganzkörpertraining für Mamas (mit Kind\, ab 1 Jahr) im Familienzentrum.\n\nUnter folgendem Link findest du alle Infos zu deiner Kursbuchung:\n\n\nBei Fragen zum Kurs\, wende dich bitte direkt an die Kursleitung.\n\nWir freuen uns auf den Kurs mit dir. :-)
SUMMARY:Ganzkörpertraining für Mamas (mit Kind\, ab 1 Jahr)
URL;VALUE=URI:
END:VEVENT
BEGIN:VEVENT
UID:69e937cad2762
DTSTART:20260625T083000
DTEND:20260625T093000
DTSTAMP:20260422T210410Z
LOCATION:Familienzentrum Innsbruck
DESCRIPTION:Danke für deine Kursbuchung von dem Kurs Ganzkörpertraining für Mamas (mit Kind\, ab 1 Jahr) im Familienzentrum.\n\nUnter folgendem Link findest du alle Infos zu deiner Kursbuchung:\n\n\nBei Fragen zum Kurs\, wende dich bitte direkt an die Kursleitung.\n\nWir freuen uns auf den Kurs mit dir. :-)
SUMMARY:Ganzkörpertraining für Mamas (mit Kind\, ab 1 Jahr)
URL;VALUE=URI:
END:VEVENT
BEGIN:VEVENT
UID:69e937cad2763
DTSTART:20260702T083000
DTEND:20260702T093000
DTSTAMP:20260422T210410Z
LOCATION:Familienzentrum Innsbruck
DESCRIPTION:Danke für deine Kursbuchung von dem Kurs Ganzkörpertraining für Mamas (mit Kind\, ab 1 Jahr) im Familienzentrum.\n\nUnter folgendem Link findest du alle Infos zu deiner Kursbuchung:\n\n\nBei Fragen zum Kurs\, wende dich bitte direkt an die Kursleitung.\n\nWir freuen uns auf den Kurs mit dir. :-)
SUMMARY:Ganzkörpertraining für Mamas (mit Kind\, ab 1 Jahr)
URL;VALUE=URI:
END:VEVENT
END:VCALENDAR