BEGIN:VCALENDAR
VERSION:2.0
PRODID:-//hacksw/handcal//NONSGML v1.0//EN
CALSCALE:GREGORIAN
BEGIN:VEVENT
UID:69e9382230cbc
DTSTART:20260623T140000
DTEND:20260623T150000
DTSTAMP:20260422T210538Z
LOCATION:Familienzentrum Innsbruck
DESCRIPTION:Danke für deine Kursbuchung von dem Kurs Heldinnenzeit – Rückbildungskurs mit Yogasequenzen (ohne Kind) im Familienzentrum.\n\nUnter folgendem Link findest du alle Infos zu deiner Kursbuchung:\n\n\nBei Fragen zum Kurs\, wende dich bitte direkt an die Kursleitung.\n\nWir freuen uns auf den Kurs mit dir. :-)
SUMMARY:Heldinnenzeit – Rückbildungskurs mit Yogasequenzen (ohne Kind)
URL;VALUE=URI:
END:VEVENT
BEGIN:VEVENT
UID:69e9382230cc0
DTSTART:20260630T140000
DTEND:20260630T150000
DTSTAMP:20260422T210538Z
LOCATION:Familienzentrum Innsbruck
DESCRIPTION:Danke für deine Kursbuchung von dem Kurs Heldinnenzeit – Rückbildungskurs mit Yogasequenzen (ohne Kind) im Familienzentrum.\n\nUnter folgendem Link findest du alle Infos zu deiner Kursbuchung:\n\n\nBei Fragen zum Kurs\, wende dich bitte direkt an die Kursleitung.\n\nWir freuen uns auf den Kurs mit dir. :-)
SUMMARY:Heldinnenzeit – Rückbildungskurs mit Yogasequenzen (ohne Kind)
URL;VALUE=URI:
END:VEVENT
BEGIN:VEVENT
UID:69e9382230cc1
DTSTART:20260707T140000
DTEND:20260707T150000
DTSTAMP:20260422T210538Z
LOCATION:Familienzentrum Innsbruck
DESCRIPTION:Danke für deine Kursbuchung von dem Kurs Heldinnenzeit – Rückbildungskurs mit Yogasequenzen (ohne Kind) im Familienzentrum.\n\nUnter folgendem Link findest du alle Infos zu deiner Kursbuchung:\n\n\nBei Fragen zum Kurs\, wende dich bitte direkt an die Kursleitung.\n\nWir freuen uns auf den Kurs mit dir. :-)
SUMMARY:Heldinnenzeit – Rückbildungskurs mit Yogasequenzen (ohne Kind)
URL;VALUE=URI:
END:VEVENT
BEGIN:VEVENT
UID:69e9382230cc2
DTSTART:20260714T140000
DTEND:20260714T150000
DTSTAMP:20260422T210538Z
LOCATION:Familienzentrum Innsbruck
DESCRIPTION:Danke für deine Kursbuchung von dem Kurs Heldinnenzeit – Rückbildungskurs mit Yogasequenzen (ohne Kind) im Familienzentrum.\n\nUnter folgendem Link findest du alle Infos zu deiner Kursbuchung:\n\n\nBei Fragen zum Kurs\, wende dich bitte direkt an die Kursleitung.\n\nWir freuen uns auf den Kurs mit dir. :-)
SUMMARY:Heldinnenzeit – Rückbildungskurs mit Yogasequenzen (ohne Kind)
URL;VALUE=URI:
END:VEVENT
BEGIN:VEVENT
UID:69e9382230cc3
DTSTART:20260721T140000
DTEND:20260721T150000
DTSTAMP:20260422T210538Z
LOCATION:Familienzentrum Innsbruck
DESCRIPTION:Danke für deine Kursbuchung von dem Kurs Heldinnenzeit – Rückbildungskurs mit Yogasequenzen (ohne Kind) im Familienzentrum.\n\nUnter folgendem Link findest du alle Infos zu deiner Kursbuchung:\n\n\nBei Fragen zum Kurs\, wende dich bitte direkt an die Kursleitung.\n\nWir freuen uns auf den Kurs mit dir. :-)
SUMMARY:Heldinnenzeit – Rückbildungskurs mit Yogasequenzen (ohne Kind)
URL;VALUE=URI:
END:VEVENT
BEGIN:VEVENT
UID:69e9382230cc4
DTSTART:20260728T140000
DTEND:20260728T150000
DTSTAMP:20260422T210538Z
LOCATION:Familienzentrum Innsbruck
DESCRIPTION:Danke für deine Kursbuchung von dem Kurs Heldinnenzeit – Rückbildungskurs mit Yogasequenzen (ohne Kind) im Familienzentrum.\n\nUnter folgendem Link findest du alle Infos zu deiner Kursbuchung:\n\n\nBei Fragen zum Kurs\, wende dich bitte direkt an die Kursleitung.\n\nWir freuen uns auf den Kurs mit dir. :-)
SUMMARY:Heldinnenzeit – Rückbildungskurs mit Yogasequenzen (ohne Kind)
URL;VALUE=URI:
END:VEVENT
BEGIN:VEVENT
UID:69e9382230cc5
DTSTART:20260804T140000
DTEND:20260804T150000
DTSTAMP:20260422T210538Z
LOCATION:Familienzentrum Innsbruck
DESCRIPTION:Danke für deine Kursbuchung von dem Kurs Heldinnenzeit – Rückbildungskurs mit Yogasequenzen (ohne Kind) im Familienzentrum.\n\nUnter folgendem Link findest du alle Infos zu deiner Kursbuchung:\n\n\nBei Fragen zum Kurs\, wende dich bitte direkt an die Kursleitung.\n\nWir freuen uns auf den Kurs mit dir. :-)
SUMMARY:Heldinnenzeit – Rückbildungskurs mit Yogasequenzen (ohne Kind)
URL;VALUE=URI:
END:VEVENT
BEGIN:VEVENT
UID:69e9382230cc6
DTSTART:20260811T140000
DTEND:20260811T150000
DTSTAMP:20260422T210538Z
LOCATION:Familienzentrum Innsbruck
DESCRIPTION:Danke für deine Kursbuchung von dem Kurs Heldinnenzeit – Rückbildungskurs mit Yogasequenzen (ohne Kind) im Familienzentrum.\n\nUnter folgendem Link findest du alle Infos zu deiner Kursbuchung:\n\n\nBei Fragen zum Kurs\, wende dich bitte direkt an die Kursleitung.\n\nWir freuen uns auf den Kurs mit dir. :-)
SUMMARY:Heldinnenzeit – Rückbildungskurs mit Yogasequenzen (ohne Kind)
URL;VALUE=URI:
END:VEVENT
END:VCALENDAR