BEGIN:VCALENDAR
VERSION:2.0
PRODID:-//hacksw/handcal//NONSGML v1.0//EN
CALSCALE:GREGORIAN
BEGIN:VEVENT
UID:69e9386dd4d0d
DTSTART:20260701T140000
DTEND:20260701T153000
DTSTAMP:20260422T210653Z
LOCATION:Familienzentrum Innsbruck
DESCRIPTION:Danke für deine Kursbuchung von dem Kurs Heldinnenzeit – Rückbildungskurs (mit Kind) im Familienzentrum.\n\nUnter folgendem Link findest du alle Infos zu deiner Kursbuchung:\n\n\nBei Fragen zum Kurs\, wende dich bitte direkt an die Kursleitung.\n\nWir freuen uns auf den Kurs mit dir. :-)
SUMMARY:Heldinnenzeit – Rückbildungskurs (mit Kind)
URL;VALUE=URI:
END:VEVENT
BEGIN:VEVENT
UID:69e9386dd4d12
DTSTART:20260708T140000
DTEND:20260708T153000
DTSTAMP:20260422T210653Z
LOCATION:Familienzentrum Innsbruck
DESCRIPTION:Danke für deine Kursbuchung von dem Kurs Heldinnenzeit – Rückbildungskurs (mit Kind) im Familienzentrum.\n\nUnter folgendem Link findest du alle Infos zu deiner Kursbuchung:\n\n\nBei Fragen zum Kurs\, wende dich bitte direkt an die Kursleitung.\n\nWir freuen uns auf den Kurs mit dir. :-)
SUMMARY:Heldinnenzeit – Rückbildungskurs (mit Kind)
URL;VALUE=URI:
END:VEVENT
BEGIN:VEVENT
UID:69e9386dd4d13
DTSTART:20260715T140000
DTEND:20260715T153000
DTSTAMP:20260422T210653Z
LOCATION:Familienzentrum Innsbruck
DESCRIPTION:Danke für deine Kursbuchung von dem Kurs Heldinnenzeit – Rückbildungskurs (mit Kind) im Familienzentrum.\n\nUnter folgendem Link findest du alle Infos zu deiner Kursbuchung:\n\n\nBei Fragen zum Kurs\, wende dich bitte direkt an die Kursleitung.\n\nWir freuen uns auf den Kurs mit dir. :-)
SUMMARY:Heldinnenzeit – Rückbildungskurs (mit Kind)
URL;VALUE=URI:
END:VEVENT
BEGIN:VEVENT
UID:69e9386dd4d14
DTSTART:20260722T140000
DTEND:20260722T153000
DTSTAMP:20260422T210653Z
LOCATION:Familienzentrum Innsbruck
DESCRIPTION:Danke für deine Kursbuchung von dem Kurs Heldinnenzeit – Rückbildungskurs (mit Kind) im Familienzentrum.\n\nUnter folgendem Link findest du alle Infos zu deiner Kursbuchung:\n\n\nBei Fragen zum Kurs\, wende dich bitte direkt an die Kursleitung.\n\nWir freuen uns auf den Kurs mit dir. :-)
SUMMARY:Heldinnenzeit – Rückbildungskurs (mit Kind)
URL;VALUE=URI:
END:VEVENT
BEGIN:VEVENT
UID:69e9386dd4d15
DTSTART:20260729T140000
DTEND:20260729T153000
DTSTAMP:20260422T210653Z
LOCATION:Familienzentrum Innsbruck
DESCRIPTION:Danke für deine Kursbuchung von dem Kurs Heldinnenzeit – Rückbildungskurs (mit Kind) im Familienzentrum.\n\nUnter folgendem Link findest du alle Infos zu deiner Kursbuchung:\n\n\nBei Fragen zum Kurs\, wende dich bitte direkt an die Kursleitung.\n\nWir freuen uns auf den Kurs mit dir. :-)
SUMMARY:Heldinnenzeit – Rückbildungskurs (mit Kind)
URL;VALUE=URI:
END:VEVENT
BEGIN:VEVENT
UID:69e9386dd4d16
DTSTART:20260805T140000
DTEND:20260805T153000
DTSTAMP:20260422T210653Z
LOCATION:Familienzentrum Innsbruck
DESCRIPTION:Danke für deine Kursbuchung von dem Kurs Heldinnenzeit – Rückbildungskurs (mit Kind) im Familienzentrum.\n\nUnter folgendem Link findest du alle Infos zu deiner Kursbuchung:\n\n\nBei Fragen zum Kurs\, wende dich bitte direkt an die Kursleitung.\n\nWir freuen uns auf den Kurs mit dir. :-)
SUMMARY:Heldinnenzeit – Rückbildungskurs (mit Kind)
URL;VALUE=URI:
END:VEVENT
BEGIN:VEVENT
UID:69e9386dd4d17
DTSTART:20260812T140000
DTEND:20260812T153000
DTSTAMP:20260422T210653Z
LOCATION:Familienzentrum Innsbruck
DESCRIPTION:Danke für deine Kursbuchung von dem Kurs Heldinnenzeit – Rückbildungskurs (mit Kind) im Familienzentrum.\n\nUnter folgendem Link findest du alle Infos zu deiner Kursbuchung:\n\n\nBei Fragen zum Kurs\, wende dich bitte direkt an die Kursleitung.\n\nWir freuen uns auf den Kurs mit dir. :-)
SUMMARY:Heldinnenzeit – Rückbildungskurs (mit Kind)
URL;VALUE=URI:
END:VEVENT
BEGIN:VEVENT
UID:69e9386dd4d18
DTSTART:20260819T140000
DTEND:20260819T153000
DTSTAMP:20260422T210653Z
LOCATION:Familienzentrum Innsbruck
DESCRIPTION:Danke für deine Kursbuchung von dem Kurs Heldinnenzeit – Rückbildungskurs (mit Kind) im Familienzentrum.\n\nUnter folgendem Link findest du alle Infos zu deiner Kursbuchung:\n\n\nBei Fragen zum Kurs\, wende dich bitte direkt an die Kursleitung.\n\nWir freuen uns auf den Kurs mit dir. :-)
SUMMARY:Heldinnenzeit – Rückbildungskurs (mit Kind)
URL;VALUE=URI:
END:VEVENT
END:VCALENDAR