BEGIN:VCALENDAR
VERSION:2.0
PRODID:-//hacksw/handcal//NONSGML v1.0//EN
CALSCALE:GREGORIAN
BEGIN:VEVENT
UID:69e4efbc77b7a
DTSTART:20260521T094500
DTEND:20260521T104500
DTSTAMP:20260419T150740Z
LOCATION:Familienzentrum Innsbruck
DESCRIPTION:Danke für deine Kursbuchung von dem Kurs Ganzkörpertraining für Mamas (mit Baby\, bis 12 Monate) im Familienzentrum.\n\nUnter folgendem Link findest du alle Infos zu deiner Kursbuchung:\n\n\nBei Fragen zum Kurs\, wende dich bitte direkt an die Kursleitung.\n\nWir freuen uns auf den Kurs mit dir. :-)
SUMMARY:Ganzkörpertraining für Mamas (mit Baby\, bis 12 Monate)
URL;VALUE=URI:
END:VEVENT
BEGIN:VEVENT
UID:69e4efbc77b7f
DTSTART:20260528T094500
DTEND:20260528T104500
DTSTAMP:20260419T150740Z
LOCATION:Familienzentrum Innsbruck
DESCRIPTION:Danke für deine Kursbuchung von dem Kurs Ganzkörpertraining für Mamas (mit Baby\, bis 12 Monate) im Familienzentrum.\n\nUnter folgendem Link findest du alle Infos zu deiner Kursbuchung:\n\n\nBei Fragen zum Kurs\, wende dich bitte direkt an die Kursleitung.\n\nWir freuen uns auf den Kurs mit dir. :-)
SUMMARY:Ganzkörpertraining für Mamas (mit Baby\, bis 12 Monate)
URL;VALUE=URI:
END:VEVENT
BEGIN:VEVENT
UID:69e4efbc77b80
DTSTART:20260611T094500
DTEND:20260611T104500
DTSTAMP:20260419T150740Z
LOCATION:Familienzentrum Innsbruck
DESCRIPTION:Danke für deine Kursbuchung von dem Kurs Ganzkörpertraining für Mamas (mit Baby\, bis 12 Monate) im Familienzentrum.\n\nUnter folgendem Link findest du alle Infos zu deiner Kursbuchung:\n\n\nBei Fragen zum Kurs\, wende dich bitte direkt an die Kursleitung.\n\nWir freuen uns auf den Kurs mit dir. :-)
SUMMARY:Ganzkörpertraining für Mamas (mit Baby\, bis 12 Monate)
URL;VALUE=URI:
END:VEVENT
BEGIN:VEVENT
UID:69e4efbc77b81
DTSTART:20260618T094500
DTEND:20260618T104500
DTSTAMP:20260419T150740Z
LOCATION:Familienzentrum Innsbruck
DESCRIPTION:Danke für deine Kursbuchung von dem Kurs Ganzkörpertraining für Mamas (mit Baby\, bis 12 Monate) im Familienzentrum.\n\nUnter folgendem Link findest du alle Infos zu deiner Kursbuchung:\n\n\nBei Fragen zum Kurs\, wende dich bitte direkt an die Kursleitung.\n\nWir freuen uns auf den Kurs mit dir. :-)
SUMMARY:Ganzkörpertraining für Mamas (mit Baby\, bis 12 Monate)
URL;VALUE=URI:
END:VEVENT
BEGIN:VEVENT
UID:69e4efbc77b82
DTSTART:20260625T094500
DTEND:20260625T104500
DTSTAMP:20260419T150740Z
LOCATION:Familienzentrum Innsbruck
DESCRIPTION:Danke für deine Kursbuchung von dem Kurs Ganzkörpertraining für Mamas (mit Baby\, bis 12 Monate) im Familienzentrum.\n\nUnter folgendem Link findest du alle Infos zu deiner Kursbuchung:\n\n\nBei Fragen zum Kurs\, wende dich bitte direkt an die Kursleitung.\n\nWir freuen uns auf den Kurs mit dir. :-)
SUMMARY:Ganzkörpertraining für Mamas (mit Baby\, bis 12 Monate)
URL;VALUE=URI:
END:VEVENT
BEGIN:VEVENT
UID:69e4efbc77b83
DTSTART:20260702T094500
DTEND:20260702T104500
DTSTAMP:20260419T150740Z
LOCATION:Familienzentrum Innsbruck
DESCRIPTION:Danke für deine Kursbuchung von dem Kurs Ganzkörpertraining für Mamas (mit Baby\, bis 12 Monate) im Familienzentrum.\n\nUnter folgendem Link findest du alle Infos zu deiner Kursbuchung:\n\n\nBei Fragen zum Kurs\, wende dich bitte direkt an die Kursleitung.\n\nWir freuen uns auf den Kurs mit dir. :-)
SUMMARY:Ganzkörpertraining für Mamas (mit Baby\, bis 12 Monate)
URL;VALUE=URI:
END:VEVENT
END:VCALENDAR