BEGIN:VCALENDAR
VERSION:2.0
PRODID:-//hacksw/handcal//NONSGML v1.0//EN
CALSCALE:GREGORIAN
BEGIN:VEVENT
UID:69e4f1e0062d5
DTSTART:20260529T143000
DTEND:20260529T160000
DTSTAMP:20260419T151648Z
LOCATION:Familienzentrum Innsbruck
DESCRIPTION:Danke für deine Kursbuchung von dem Kurs Familienyoga im Familienzentrum.\n\nUnter folgendem Link findest du alle Infos zu deiner Kursbuchung:\n\n\nBei Fragen zum Kurs\, wende dich bitte direkt an die Kursleitung.\n\nWir freuen uns auf den Kurs mit dir. :-)
SUMMARY:Familienyoga
URL;VALUE=URI:
END:VEVENT
END:VCALENDAR