BEGIN:VCALENDAR
VERSION:2.0
PRODID:-//hacksw/handcal//NONSGML v1.0//EN
CALSCALE:GREGORIAN
BEGIN:VEVENT
UID:69e507698ea31
DTSTART:20261201T190000
DTEND:20261201T200000
DTSTAMP:20260419T164841Z
LOCATION:Familienzentrum Innsbruck
DESCRIPTION:Danke für deine Kursbuchung von dem Kurs Wenn stille Nacht laut wird – Elternwissen To Go (Online) im Familienzentrum.\n\nUnter folgendem Link findest du alle Infos zu deiner Kursbuchung:\n\n\nBei Fragen zum Kurs\, wende dich bitte direkt an die Kursleitung.\n\nWir freuen uns auf den Kurs mit dir. :-)
SUMMARY:Wenn stille Nacht laut wird – Elternwissen To Go (Online)
URL;VALUE=URI:
END:VEVENT
END:VCALENDAR