BEGIN:VCALENDAR
VERSION:2.0
PRODID:-//hacksw/handcal//NONSGML v1.0//EN
CALSCALE:GREGORIAN
BEGIN:VEVENT
UID:69e505c189591
DTSTART:20261116T200000
DTEND:20261116T210000
DTSTAMP:20260419T164137Z
LOCATION:Familienzentrum Innsbruck
DESCRIPTION:Danke für deine Kursbuchung von dem Kurs Vom Krampus + der Schnullerfee – Elternwissen To Go (Online) im Familienzentrum.\n\nUnter folgendem Link findest du alle Infos zu deiner Kursbuchung:\n\n\nBei Fragen zum Kurs\, wende dich bitte direkt an die Kursleitung.\n\nWir freuen uns auf den Kurs mit dir. :-)
SUMMARY:Vom Krampus + der Schnullerfee – Elternwissen To Go (Online)
URL;VALUE=URI:
END:VEVENT
END:VCALENDAR