BEGIN:VCALENDAR
VERSION:2.0
PRODID:-//hacksw/handcal//NONSGML v1.0//EN
CALSCALE:GREGORIAN
BEGIN:VEVENT
UID:69e51675e0d0e
DTSTART:20260831T200000
DTEND:20260831T210000
DTSTAMP:20260419T175253Z
LOCATION:Familienzentrum Innsbruck
DESCRIPTION:Danke für deine Kursbuchung von dem Kurs Plötzlich ohne Mama und Papa! – Elternwissen To Go (Online) im Familienzentrum.\n\nUnter folgendem Link findest du alle Infos zu deiner Kursbuchung:\n\n\nBei Fragen zum Kurs\, wende dich bitte direkt an die Kursleitung.\n\nWir freuen uns auf den Kurs mit dir. :-)
SUMMARY:Plötzlich ohne Mama und Papa! – Elternwissen To Go (Online)
URL;VALUE=URI:
END:VEVENT
END:VCALENDAR