BEGIN:VCALENDAR
VERSION:2.0
PRODID:-//hacksw/handcal//NONSGML v1.0//EN
CALSCALE:GREGORIAN
BEGIN:VEVENT
UID:69eca20beda03
DTSTART:20260428T140000
DTEND:20260428T150000
DTSTAMP:20260425T111419Z
LOCATION:Familienzentrum Innsbruck
DESCRIPTION:Danke für deine Kursbuchung von dem Kurs Mama Baby Yoga im Familienzentrum.\n\nUnter folgendem Link findest du alle Infos zu deiner Kursbuchung:\n\n\nBei Fragen zum Kurs\, wende dich bitte direkt an die Kursleitung.\n\nWir freuen uns auf den Kurs mit dir. :-)
SUMMARY:Mama Baby Yoga
URL;VALUE=URI:
END:VEVENT
BEGIN:VEVENT
UID:69eca20beda06
DTSTART:20260505T140000
DTEND:20260505T150000
DTSTAMP:20260425T111419Z
LOCATION:Familienzentrum Innsbruck
DESCRIPTION:Danke für deine Kursbuchung von dem Kurs Mama Baby Yoga im Familienzentrum.\n\nUnter folgendem Link findest du alle Infos zu deiner Kursbuchung:\n\n\nBei Fragen zum Kurs\, wende dich bitte direkt an die Kursleitung.\n\nWir freuen uns auf den Kurs mit dir. :-)
SUMMARY:Mama Baby Yoga
URL;VALUE=URI:
END:VEVENT
BEGIN:VEVENT
UID:69eca20beda08
DTSTART:20260512T140000
DTEND:20260512T150000
DTSTAMP:20260425T111419Z
LOCATION:Familienzentrum Innsbruck
DESCRIPTION:Danke für deine Kursbuchung von dem Kurs Mama Baby Yoga im Familienzentrum.\n\nUnter folgendem Link findest du alle Infos zu deiner Kursbuchung:\n\n\nBei Fragen zum Kurs\, wende dich bitte direkt an die Kursleitung.\n\nWir freuen uns auf den Kurs mit dir. :-)
SUMMARY:Mama Baby Yoga
URL;VALUE=URI:
END:VEVENT
BEGIN:VEVENT
UID:69eca20beda09
DTSTART:20260519T140000
DTEND:20260519T150000
DTSTAMP:20260425T111419Z
LOCATION:Familienzentrum Innsbruck
DESCRIPTION:Danke für deine Kursbuchung von dem Kurs Mama Baby Yoga im Familienzentrum.\n\nUnter folgendem Link findest du alle Infos zu deiner Kursbuchung:\n\n\nBei Fragen zum Kurs\, wende dich bitte direkt an die Kursleitung.\n\nWir freuen uns auf den Kurs mit dir. :-)
SUMMARY:Mama Baby Yoga
URL;VALUE=URI:
END:VEVENT
BEGIN:VEVENT
UID:69eca20beda0a
DTSTART:20260526T140000
DTEND:20260526T150000
DTSTAMP:20260425T111419Z
LOCATION:Familienzentrum Innsbruck
DESCRIPTION:Danke für deine Kursbuchung von dem Kurs Mama Baby Yoga im Familienzentrum.\n\nUnter folgendem Link findest du alle Infos zu deiner Kursbuchung:\n\n\nBei Fragen zum Kurs\, wende dich bitte direkt an die Kursleitung.\n\nWir freuen uns auf den Kurs mit dir. :-)
SUMMARY:Mama Baby Yoga
URL;VALUE=URI:
END:VEVENT
BEGIN:VEVENT
UID:69eca20beda0b
DTSTART:20260602T140000
DTEND:20260602T150000
DTSTAMP:20260425T111419Z
LOCATION:Familienzentrum Innsbruck
DESCRIPTION:Danke für deine Kursbuchung von dem Kurs Mama Baby Yoga im Familienzentrum.\n\nUnter folgendem Link findest du alle Infos zu deiner Kursbuchung:\n\n\nBei Fragen zum Kurs\, wende dich bitte direkt an die Kursleitung.\n\nWir freuen uns auf den Kurs mit dir. :-)
SUMMARY:Mama Baby Yoga
URL;VALUE=URI:
END:VEVENT
BEGIN:VEVENT
UID:69eca20beda0c
DTSTART:20260609T140000
DTEND:20260609T150000
DTSTAMP:20260425T111419Z
LOCATION:Familienzentrum Innsbruck
DESCRIPTION:Danke für deine Kursbuchung von dem Kurs Mama Baby Yoga im Familienzentrum.\n\nUnter folgendem Link findest du alle Infos zu deiner Kursbuchung:\n\n\nBei Fragen zum Kurs\, wende dich bitte direkt an die Kursleitung.\n\nWir freuen uns auf den Kurs mit dir. :-)
SUMMARY:Mama Baby Yoga
URL;VALUE=URI:
END:VEVENT
BEGIN:VEVENT
UID:69eca20beda0d
DTSTART:20260616T140000
DTEND:20260616T150000
DTSTAMP:20260425T111419Z
LOCATION:Familienzentrum Innsbruck
DESCRIPTION:Danke für deine Kursbuchung von dem Kurs Mama Baby Yoga im Familienzentrum.\n\nUnter folgendem Link findest du alle Infos zu deiner Kursbuchung:\n\n\nBei Fragen zum Kurs\, wende dich bitte direkt an die Kursleitung.\n\nWir freuen uns auf den Kurs mit dir. :-)
SUMMARY:Mama Baby Yoga
URL;VALUE=URI:
END:VEVENT
END:VCALENDAR