BEGIN:VCALENDAR
VERSION:2.0
PRODID:-//hacksw/handcal//NONSGML v1.0//EN
CALSCALE:GREGORIAN
BEGIN:VEVENT
UID:69e4f00fac194
DTSTART:20260319T094500
DTEND:20260319T104500
DTSTAMP:20260419T150903Z
LOCATION:Familienzentrum Innsbruck
DESCRIPTION:Danke für deine Kursbuchung von dem Kurs Ganzkörpertraining für Mamas (mit Baby\, bis 12 Monate) im Familienzentrum.\n\nUnter folgendem Link findest du alle Infos zu deiner Kursbuchung:\n\n\nBei Fragen zum Kurs\, wende dich bitte direkt an die Kursleitung.\n\nWir freuen uns auf den Kurs mit dir. :-)
SUMMARY:Ganzkörpertraining für Mamas (mit Baby\, bis 12 Monate)
URL;VALUE=URI:
END:VEVENT
BEGIN:VEVENT
UID:69e4f00fac198
DTSTART:20260326T094500
DTEND:20260326T104500
DTSTAMP:20260419T150903Z
LOCATION:Familienzentrum Innsbruck
DESCRIPTION:Danke für deine Kursbuchung von dem Kurs Ganzkörpertraining für Mamas (mit Baby\, bis 12 Monate) im Familienzentrum.\n\nUnter folgendem Link findest du alle Infos zu deiner Kursbuchung:\n\n\nBei Fragen zum Kurs\, wende dich bitte direkt an die Kursleitung.\n\nWir freuen uns auf den Kurs mit dir. :-)
SUMMARY:Ganzkörpertraining für Mamas (mit Baby\, bis 12 Monate)
URL;VALUE=URI:
END:VEVENT
BEGIN:VEVENT
UID:69e4f00fac19a
DTSTART:20260402T094500
DTEND:20260402T104500
DTSTAMP:20260419T150903Z
LOCATION:Familienzentrum Innsbruck
DESCRIPTION:Danke für deine Kursbuchung von dem Kurs Ganzkörpertraining für Mamas (mit Baby\, bis 12 Monate) im Familienzentrum.\n\nUnter folgendem Link findest du alle Infos zu deiner Kursbuchung:\n\n\nBei Fragen zum Kurs\, wende dich bitte direkt an die Kursleitung.\n\nWir freuen uns auf den Kurs mit dir. :-)
SUMMARY:Ganzkörpertraining für Mamas (mit Baby\, bis 12 Monate)
URL;VALUE=URI:
END:VEVENT
BEGIN:VEVENT
UID:69e4f00fac19b
DTSTART:20260409T094500
DTEND:20260409T104500
DTSTAMP:20260419T150903Z
LOCATION:Familienzentrum Innsbruck
DESCRIPTION:Danke für deine Kursbuchung von dem Kurs Ganzkörpertraining für Mamas (mit Baby\, bis 12 Monate) im Familienzentrum.\n\nUnter folgendem Link findest du alle Infos zu deiner Kursbuchung:\n\n\nBei Fragen zum Kurs\, wende dich bitte direkt an die Kursleitung.\n\nWir freuen uns auf den Kurs mit dir. :-)
SUMMARY:Ganzkörpertraining für Mamas (mit Baby\, bis 12 Monate)
URL;VALUE=URI:
END:VEVENT
BEGIN:VEVENT
UID:69e4f00fac19c
DTSTART:20260416T094500
DTEND:20260416T104500
DTSTAMP:20260419T150903Z
LOCATION:Familienzentrum Innsbruck
DESCRIPTION:Danke für deine Kursbuchung von dem Kurs Ganzkörpertraining für Mamas (mit Baby\, bis 12 Monate) im Familienzentrum.\n\nUnter folgendem Link findest du alle Infos zu deiner Kursbuchung:\n\n\nBei Fragen zum Kurs\, wende dich bitte direkt an die Kursleitung.\n\nWir freuen uns auf den Kurs mit dir. :-)
SUMMARY:Ganzkörpertraining für Mamas (mit Baby\, bis 12 Monate)
URL;VALUE=URI:
END:VEVENT
BEGIN:VEVENT
UID:69e4f00fac19d
DTSTART:20260423T094500
DTEND:20260423T104500
DTSTAMP:20260419T150903Z
LOCATION:Familienzentrum Innsbruck
DESCRIPTION:Danke für deine Kursbuchung von dem Kurs Ganzkörpertraining für Mamas (mit Baby\, bis 12 Monate) im Familienzentrum.\n\nUnter folgendem Link findest du alle Infos zu deiner Kursbuchung:\n\n\nBei Fragen zum Kurs\, wende dich bitte direkt an die Kursleitung.\n\nWir freuen uns auf den Kurs mit dir. :-)
SUMMARY:Ganzkörpertraining für Mamas (mit Baby\, bis 12 Monate)
URL;VALUE=URI:
END:VEVENT
BEGIN:VEVENT
UID:69e4f00fac19e
DTSTART:20260430T094500
DTEND:20260430T104500
DTSTAMP:20260419T150903Z
LOCATION:Familienzentrum Innsbruck
DESCRIPTION:Danke für deine Kursbuchung von dem Kurs Ganzkörpertraining für Mamas (mit Baby\, bis 12 Monate) im Familienzentrum.\n\nUnter folgendem Link findest du alle Infos zu deiner Kursbuchung:\n\n\nBei Fragen zum Kurs\, wende dich bitte direkt an die Kursleitung.\n\nWir freuen uns auf den Kurs mit dir. :-)
SUMMARY:Ganzkörpertraining für Mamas (mit Baby\, bis 12 Monate)
URL;VALUE=URI:
END:VEVENT
BEGIN:VEVENT
UID:69e4f00fac19f
DTSTART:20260507T094500
DTEND:20260507T104500
DTSTAMP:20260419T150903Z
LOCATION:Familienzentrum Innsbruck
DESCRIPTION:Danke für deine Kursbuchung von dem Kurs Ganzkörpertraining für Mamas (mit Baby\, bis 12 Monate) im Familienzentrum.\n\nUnter folgendem Link findest du alle Infos zu deiner Kursbuchung:\n\n\nBei Fragen zum Kurs\, wende dich bitte direkt an die Kursleitung.\n\nWir freuen uns auf den Kurs mit dir. :-)
SUMMARY:Ganzkörpertraining für Mamas (mit Baby\, bis 12 Monate)
URL;VALUE=URI:
END:VEVENT
END:VCALENDAR