BEGIN:VCALENDAR
VERSION:2.0
PRODID:-//hacksw/handcal//NONSGML v1.0//EN
CALSCALE:GREGORIAN
BEGIN:VEVENT
UID:69e4f01ee84b6
DTSTART:20260326T110000
DTEND:20260326T120000
DTSTAMP:20260419T150918Z
LOCATION:Familienzentrum Innsbruck
DESCRIPTION:Danke für deine Kursbuchung von dem Kurs Ganzkörpertraining für Mamas (mit Baby\, bis 12 Monate) im Familienzentrum.\n\nUnter folgendem Link findest du alle Infos zu deiner Kursbuchung:\n\n\nBei Fragen zum Kurs\, wende dich bitte direkt an die Kursleitung.\n\nWir freuen uns auf den Kurs mit dir. :-)
SUMMARY:Ganzkörpertraining für Mamas (mit Baby\, bis 12 Monate)
URL;VALUE=URI:
END:VEVENT
BEGIN:VEVENT
UID:69e4f01ee84ba
DTSTART:20260402T110000
DTEND:20260402T120000
DTSTAMP:20260419T150918Z
LOCATION:Familienzentrum Innsbruck
DESCRIPTION:Danke für deine Kursbuchung von dem Kurs Ganzkörpertraining für Mamas (mit Baby\, bis 12 Monate) im Familienzentrum.\n\nUnter folgendem Link findest du alle Infos zu deiner Kursbuchung:\n\n\nBei Fragen zum Kurs\, wende dich bitte direkt an die Kursleitung.\n\nWir freuen uns auf den Kurs mit dir. :-)
SUMMARY:Ganzkörpertraining für Mamas (mit Baby\, bis 12 Monate)
URL;VALUE=URI:
END:VEVENT
BEGIN:VEVENT
UID:69e4f01ee84bb
DTSTART:20260409T110000
DTEND:20260409T120000
DTSTAMP:20260419T150918Z
LOCATION:Familienzentrum Innsbruck
DESCRIPTION:Danke für deine Kursbuchung von dem Kurs Ganzkörpertraining für Mamas (mit Baby\, bis 12 Monate) im Familienzentrum.\n\nUnter folgendem Link findest du alle Infos zu deiner Kursbuchung:\n\n\nBei Fragen zum Kurs\, wende dich bitte direkt an die Kursleitung.\n\nWir freuen uns auf den Kurs mit dir. :-)
SUMMARY:Ganzkörpertraining für Mamas (mit Baby\, bis 12 Monate)
URL;VALUE=URI:
END:VEVENT
BEGIN:VEVENT
UID:69e4f01ee84bc
DTSTART:20260416T110000
DTEND:20260416T120000
DTSTAMP:20260419T150918Z
LOCATION:Familienzentrum Innsbruck
DESCRIPTION:Danke für deine Kursbuchung von dem Kurs Ganzkörpertraining für Mamas (mit Baby\, bis 12 Monate) im Familienzentrum.\n\nUnter folgendem Link findest du alle Infos zu deiner Kursbuchung:\n\n\nBei Fragen zum Kurs\, wende dich bitte direkt an die Kursleitung.\n\nWir freuen uns auf den Kurs mit dir. :-)
SUMMARY:Ganzkörpertraining für Mamas (mit Baby\, bis 12 Monate)
URL;VALUE=URI:
END:VEVENT
BEGIN:VEVENT
UID:69e4f01ee84bd
DTSTART:20260423T110000
DTEND:20260423T120000
DTSTAMP:20260419T150918Z
LOCATION:Familienzentrum Innsbruck
DESCRIPTION:Danke für deine Kursbuchung von dem Kurs Ganzkörpertraining für Mamas (mit Baby\, bis 12 Monate) im Familienzentrum.\n\nUnter folgendem Link findest du alle Infos zu deiner Kursbuchung:\n\n\nBei Fragen zum Kurs\, wende dich bitte direkt an die Kursleitung.\n\nWir freuen uns auf den Kurs mit dir. :-)
SUMMARY:Ganzkörpertraining für Mamas (mit Baby\, bis 12 Monate)
URL;VALUE=URI:
END:VEVENT
BEGIN:VEVENT
UID:69e4f01ee84be
DTSTART:20260430T110000
DTEND:20260430T120000
DTSTAMP:20260419T150918Z
LOCATION:Familienzentrum Innsbruck
DESCRIPTION:Danke für deine Kursbuchung von dem Kurs Ganzkörpertraining für Mamas (mit Baby\, bis 12 Monate) im Familienzentrum.\n\nUnter folgendem Link findest du alle Infos zu deiner Kursbuchung:\n\n\nBei Fragen zum Kurs\, wende dich bitte direkt an die Kursleitung.\n\nWir freuen uns auf den Kurs mit dir. :-)
SUMMARY:Ganzkörpertraining für Mamas (mit Baby\, bis 12 Monate)
URL;VALUE=URI:
END:VEVENT
BEGIN:VEVENT
UID:69e4f01ee84bf
DTSTART:20260507T110000
DTEND:20260507T120000
DTSTAMP:20260419T150918Z
LOCATION:Familienzentrum Innsbruck
DESCRIPTION:Danke für deine Kursbuchung von dem Kurs Ganzkörpertraining für Mamas (mit Baby\, bis 12 Monate) im Familienzentrum.\n\nUnter folgendem Link findest du alle Infos zu deiner Kursbuchung:\n\n\nBei Fragen zum Kurs\, wende dich bitte direkt an die Kursleitung.\n\nWir freuen uns auf den Kurs mit dir. :-)
SUMMARY:Ganzkörpertraining für Mamas (mit Baby\, bis 12 Monate)
URL;VALUE=URI:
END:VEVENT
END:VCALENDAR