BEGIN:VCALENDAR
VERSION:2.0
PRODID:-//hacksw/handcal//NONSGML v1.0//EN
CALSCALE:GREGORIAN
BEGIN:VEVENT
UID:69e4df687ae56
DTSTART:20260407T103000
DTEND:20260407T120000
DTSTAMP:20260419T135800Z
LOCATION:Familienzentrum Innsbruck
DESCRIPTION:Danke für deine Kursbuchung von dem Kurs Mentale und körperliche Geburtsvorbereitung im Familienzentrum.\n\nUnter folgendem Link findest du alle Infos zu deiner Kursbuchung:\n\n\nBei Fragen zum Kurs\, wende dich bitte direkt an die Kursleitung.\n\nWir freuen uns auf den Kurs mit dir. :-)
SUMMARY:Mentale und körperliche Geburtsvorbereitung
URL;VALUE=URI:
END:VEVENT
BEGIN:VEVENT
UID:69e4df687ae5b
DTSTART:20260414T103000
DTEND:20260414T120000
DTSTAMP:20260419T135800Z
LOCATION:Familienzentrum Innsbruck
DESCRIPTION:Danke für deine Kursbuchung von dem Kurs Mentale und körperliche Geburtsvorbereitung im Familienzentrum.\n\nUnter folgendem Link findest du alle Infos zu deiner Kursbuchung:\n\n\nBei Fragen zum Kurs\, wende dich bitte direkt an die Kursleitung.\n\nWir freuen uns auf den Kurs mit dir. :-)
SUMMARY:Mentale und körperliche Geburtsvorbereitung
URL;VALUE=URI:
END:VEVENT
BEGIN:VEVENT
UID:69e4df687ae5c
DTSTART:20260421T103000
DTEND:20260421T120000
DTSTAMP:20260419T135800Z
LOCATION:Familienzentrum Innsbruck
DESCRIPTION:Danke für deine Kursbuchung von dem Kurs Mentale und körperliche Geburtsvorbereitung im Familienzentrum.\n\nUnter folgendem Link findest du alle Infos zu deiner Kursbuchung:\n\n\nBei Fragen zum Kurs\, wende dich bitte direkt an die Kursleitung.\n\nWir freuen uns auf den Kurs mit dir. :-)
SUMMARY:Mentale und körperliche Geburtsvorbereitung
URL;VALUE=URI:
END:VEVENT
BEGIN:VEVENT
UID:69e4df687ae5d
DTSTART:20260428T103000
DTEND:20260428T120000
DTSTAMP:20260419T135800Z
LOCATION:Familienzentrum Innsbruck
DESCRIPTION:Danke für deine Kursbuchung von dem Kurs Mentale und körperliche Geburtsvorbereitung im Familienzentrum.\n\nUnter folgendem Link findest du alle Infos zu deiner Kursbuchung:\n\n\nBei Fragen zum Kurs\, wende dich bitte direkt an die Kursleitung.\n\nWir freuen uns auf den Kurs mit dir. :-)
SUMMARY:Mentale und körperliche Geburtsvorbereitung
URL;VALUE=URI:
END:VEVENT
BEGIN:VEVENT
UID:69e4df687ae5e
DTSTART:20260505T103000
DTEND:20260505T120000
DTSTAMP:20260419T135800Z
LOCATION:Familienzentrum Innsbruck
DESCRIPTION:Danke für deine Kursbuchung von dem Kurs Mentale und körperliche Geburtsvorbereitung im Familienzentrum.\n\nUnter folgendem Link findest du alle Infos zu deiner Kursbuchung:\n\n\nBei Fragen zum Kurs\, wende dich bitte direkt an die Kursleitung.\n\nWir freuen uns auf den Kurs mit dir. :-)
SUMMARY:Mentale und körperliche Geburtsvorbereitung
URL;VALUE=URI:
END:VEVENT
END:VCALENDAR