BEGIN:VCALENDAR
VERSION:2.0
PRODID:-//hacksw/handcal//NONSGML v1.0//EN
CALSCALE:GREGORIAN
BEGIN:VEVENT
UID:69e4f1b61b5d8
DTSTART:20260304T140000
DTEND:20260304T153000
DTSTAMP:20260419T151606Z
LOCATION:Familienzentrum Innsbruck
DESCRIPTION:Danke für deine Kursbuchung von dem Kurs Heldinnenzeit – Rückbildungskurs (mit Kind) im Familienzentrum.\n\nUnter folgendem Link findest du alle Infos zu deiner Kursbuchung:\n\n\nBei Fragen zum Kurs\, wende dich bitte direkt an die Kursleitung.\n\nWir freuen uns auf den Kurs mit dir. :-)
SUMMARY:Heldinnenzeit – Rückbildungskurs (mit Kind)
URL;VALUE=URI:
END:VEVENT
BEGIN:VEVENT
UID:69e4f1b61b5db
DTSTART:20260311T140000
DTEND:20260311T153000
DTSTAMP:20260419T151606Z
LOCATION:Familienzentrum Innsbruck
DESCRIPTION:Danke für deine Kursbuchung von dem Kurs Heldinnenzeit – Rückbildungskurs (mit Kind) im Familienzentrum.\n\nUnter folgendem Link findest du alle Infos zu deiner Kursbuchung:\n\n\nBei Fragen zum Kurs\, wende dich bitte direkt an die Kursleitung.\n\nWir freuen uns auf den Kurs mit dir. :-)
SUMMARY:Heldinnenzeit – Rückbildungskurs (mit Kind)
URL;VALUE=URI:
END:VEVENT
BEGIN:VEVENT
UID:69e4f1b61b5dc
DTSTART:20260318T140000
DTEND:20260318T153000
DTSTAMP:20260419T151606Z
LOCATION:Familienzentrum Innsbruck
DESCRIPTION:Danke für deine Kursbuchung von dem Kurs Heldinnenzeit – Rückbildungskurs (mit Kind) im Familienzentrum.\n\nUnter folgendem Link findest du alle Infos zu deiner Kursbuchung:\n\n\nBei Fragen zum Kurs\, wende dich bitte direkt an die Kursleitung.\n\nWir freuen uns auf den Kurs mit dir. :-)
SUMMARY:Heldinnenzeit – Rückbildungskurs (mit Kind)
URL;VALUE=URI:
END:VEVENT
BEGIN:VEVENT
UID:69e4f1b61b5dd
DTSTART:20260325T140000
DTEND:20260325T153000
DTSTAMP:20260419T151606Z
LOCATION:Familienzentrum Innsbruck
DESCRIPTION:Danke für deine Kursbuchung von dem Kurs Heldinnenzeit – Rückbildungskurs (mit Kind) im Familienzentrum.\n\nUnter folgendem Link findest du alle Infos zu deiner Kursbuchung:\n\n\nBei Fragen zum Kurs\, wende dich bitte direkt an die Kursleitung.\n\nWir freuen uns auf den Kurs mit dir. :-)
SUMMARY:Heldinnenzeit – Rückbildungskurs (mit Kind)
URL;VALUE=URI:
END:VEVENT
BEGIN:VEVENT
UID:69e4f1b61b5de
DTSTART:20260401T140000
DTEND:20260401T153000
DTSTAMP:20260419T151606Z
LOCATION:Familienzentrum Innsbruck
DESCRIPTION:Danke für deine Kursbuchung von dem Kurs Heldinnenzeit – Rückbildungskurs (mit Kind) im Familienzentrum.\n\nUnter folgendem Link findest du alle Infos zu deiner Kursbuchung:\n\n\nBei Fragen zum Kurs\, wende dich bitte direkt an die Kursleitung.\n\nWir freuen uns auf den Kurs mit dir. :-)
SUMMARY:Heldinnenzeit – Rückbildungskurs (mit Kind)
URL;VALUE=URI:
END:VEVENT
BEGIN:VEVENT
UID:69e4f1b61b5df
DTSTART:20260408T140000
DTEND:20260408T153000
DTSTAMP:20260419T151606Z
LOCATION:Familienzentrum Innsbruck
DESCRIPTION:Danke für deine Kursbuchung von dem Kurs Heldinnenzeit – Rückbildungskurs (mit Kind) im Familienzentrum.\n\nUnter folgendem Link findest du alle Infos zu deiner Kursbuchung:\n\n\nBei Fragen zum Kurs\, wende dich bitte direkt an die Kursleitung.\n\nWir freuen uns auf den Kurs mit dir. :-)
SUMMARY:Heldinnenzeit – Rückbildungskurs (mit Kind)
URL;VALUE=URI:
END:VEVENT
BEGIN:VEVENT
UID:69e4f1b61b5e0
DTSTART:20260415T140000
DTEND:20260415T153000
DTSTAMP:20260419T151606Z
LOCATION:Familienzentrum Innsbruck
DESCRIPTION:Danke für deine Kursbuchung von dem Kurs Heldinnenzeit – Rückbildungskurs (mit Kind) im Familienzentrum.\n\nUnter folgendem Link findest du alle Infos zu deiner Kursbuchung:\n\n\nBei Fragen zum Kurs\, wende dich bitte direkt an die Kursleitung.\n\nWir freuen uns auf den Kurs mit dir. :-)
SUMMARY:Heldinnenzeit – Rückbildungskurs (mit Kind)
URL;VALUE=URI:
END:VEVENT
BEGIN:VEVENT
UID:69e4f1b61b5e1
DTSTART:20260422T140000
DTEND:20260422T153000
DTSTAMP:20260419T151606Z
LOCATION:Familienzentrum Innsbruck
DESCRIPTION:Danke für deine Kursbuchung von dem Kurs Heldinnenzeit – Rückbildungskurs (mit Kind) im Familienzentrum.\n\nUnter folgendem Link findest du alle Infos zu deiner Kursbuchung:\n\n\nBei Fragen zum Kurs\, wende dich bitte direkt an die Kursleitung.\n\nWir freuen uns auf den Kurs mit dir. :-)
SUMMARY:Heldinnenzeit – Rückbildungskurs (mit Kind)
URL;VALUE=URI:
END:VEVENT
END:VCALENDAR