BEGIN:VCALENDAR
VERSION:2.0
PRODID:-//hacksw/handcal//NONSGML v1.0//EN
CALSCALE:GREGORIAN
BEGIN:VEVENT
UID:69ec176cd55d4
DTSTART:20260626T090000
DTEND:20260626T113000
DTSTAMP:20260425T012252Z
LOCATION:Familienzentrum Innsbruck
DESCRIPTION:Danke für deine Kursbuchung von dem Kurs Stillvorbereitungs­workshop im Familienzentrum.\n\nUnter folgendem Link findest du alle Infos zu deiner Kursbuchung:\n\n\nBei Fragen zum Kurs\, wende dich bitte direkt an die Kursleitung.\n\nWir freuen uns auf den Kurs mit dir. :-)
SUMMARY:Stillvorbereitungs­workshop
URL;VALUE=URI:
END:VEVENT
END:VCALENDAR